BEGIN:VCALENDAR
PRODID:-//github.com/rianjs/ical.net//NONSGML ical.net 4.0//EN
VERSION:2.0
BEGIN:VEVENT
DESCRIPTION:Gemütlich Radeln ohne Motor.\nhttps://touren-termine.adfc.de/r
 adveranstaltung/151669-schnack-aufm-rad
DTEND:20250620T170000Z
DTSTAMP:20260419T181859Z
DTSTART:20250620T150000Z
LOCATION:S-Bahnhof Wedel\, 22880 Wedel
SEQUENCE:0
SUMMARY:Schnack auf'm Rad
UID:891a855e-d914-42ff-93d7-a12d45fd916d
URL:https://touren-termine.adfc.de/radveranstaltung/151669-schnack-aufm-rad
END:VEVENT
END:VCALENDAR
