BEGIN:VCALENDAR
PRODID:-//github.com/rianjs/ical.net//NONSGML ical.net 4.0//EN
VERSION:2.0
BEGIN:VEVENT
DESCRIPTION:Monatlicher Stammtisch von interessierten Radlerinnen und Radl
 ern. Jeweils am letzten Dienstag im \nMonat\, auch am 2. Weihnachtstag!\n
 https://touren-termine.adfc.de/radveranstaltung/96237-radlertreff-des-adf
 c-hamburg
DTEND:20231226T220000Z
DTSTAMP:20260421T025154Z
DTSTART:20231226T180000Z
LOCATION:Gasthaus Quartier 21\, Fuhlsbüttler Straße 405\, 22309 Hamburg
SEQUENCE:0
SUMMARY:Radlertreff des ADFC Hamburg
UID:3d57f65c-dc02-41a2-ad6c-a241c4c606b8
URL:https://touren-termine.adfc.de/radveranstaltung/96237-radlertreff-des-
 adfc-hamburg
END:VEVENT
END:VCALENDAR
