BEGIN:VCALENDAR
PRODID:-//github.com/rianjs/ical.net//NONSGML ical.net 4.0//EN
VERSION:2.0
BEGIN:VEVENT
DESCRIPTION:Kennenlernen\, Ziele festlegen und starten – offen für alle!\n
 Ort: Bürgerzentrum West\, 19 Uhr.\nAnmeldung: daniel.graesel@adfc-bw.de\,
  peter.friedrich@adfc-bw.de\nhttps://touren-termine.adfc.de/radveranstalt
 ung/166159-auftaktveranstaltung-der-radverkehrsgruppe-west
DTEND:20250714T190000Z
DTSTAMP:20260424T152735Z
DTSTART:20250714T170000Z
LOCATION:Bebelstraße 22\, 70193 Stuttgart
SEQUENCE:0
SUMMARY:Auftaktveranstaltung der Radverkehrsgruppe West
UID:fb7f4f71-152f-4a10-b3ce-9765850c6690
URL:https://touren-termine.adfc.de/radveranstaltung/166159-auftaktveransta
 ltung-der-radverkehrsgruppe-west
END:VEVENT
END:VCALENDAR
