BEGIN:VCALENDAR
PRODID:-//github.com/rianjs/ical.net//NONSGML ical.net 4.0//EN
VERSION:2.0
BEGIN:VEVENT
DESCRIPTION:Wir fahren in Fahrgemeinschaften ins Alpenland. Das Ziel wird 
 bei der Anmeldung bekannt gegeben. Im Voralpenland und im 5 Seengebiet we
 rden ebenso Touren angeboten.\nhttps://touren-termine.adfc.de/radveransta
 ltung/190624-mtbbergtour-nach-wahl
DTEND:20270211T060000Z
DTSTAMP:20260425T150437Z
DTSTART:20260618T060000Z
LOCATION:Carolinenstraße 1a\, 82319 Starnberg
SEQUENCE:0
SUMMARY:MTB-Bergtour nach Wahl
UID:4ad9827a-eb62-4248-b0d3-dd2ac6df1bd2
URL:https://touren-termine.adfc.de/radveranstaltung/190624-mtbbergtour-nac
 h-wahl
END:VEVENT
END:VCALENDAR
