BEGIN:VCALENDAR
PRODID:-//github.com/rianjs/ical.net//NONSGML ical.net 4.0//EN
VERSION:2.0
BEGIN:VEVENT
DESCRIPTION:Regelmäßiges Online-Meeting. Wir tauschen uns aus über Ideen\,
  aktuelle Themen und Projekte des ADFC Hamburg. Jede*r ist herzlich einge
 laden!\nhttps://touren-termine.adfc.de/radveranstaltung/85214-offenes-tre
 ffen-online-via-jitsi-meet
DTEND:20230910T170000Z
DTSTAMP:20260421T024347Z
DTSTART:20230910T160000Z
LOCATION:Online-Meeting via Jitsi\, 20099 Hamburg\, St. Georg
SEQUENCE:0
SUMMARY:Offenes Treffen (online via Jitsi Meet)
UID:63a7ac7d-9f56-4aea-941a-b691f1e1fee2
URL:https://touren-termine.adfc.de/radveranstaltung/85214-offenes-treffen-
 online-via-jitsi-meet
END:VEVENT
END:VCALENDAR
