BEGIN:VCALENDAR
PRODID:-//github.com/rianjs/ical.net//NONSGML ical.net 4.0//EN
VERSION:2.0
BEGIN:VEVENT
DESCRIPTION:Der Posthornweg ist ein Rundfahrt um die Stadt Langenfeld. Tag
 estour mit Einkehr\nhttps://touren-termine.adfc.de/radveranstaltung/10470
 6-posthornweg
DTEND:20231117T153000Z
DTSTAMP:20260421T120848Z
DTSTART:20231117T090000Z
LOCATION:vor WUPSI Kundencenter\, Bahnallee\, 51379 Leverkusen
SEQUENCE:0
SUMMARY:Posthornweg
UID:24baa12d-b2ce-401b-9456-ff24c3f06099
URL:https://touren-termine.adfc.de/radveranstaltung/104706-posthornweg
END:VEVENT
END:VCALENDAR
