BEGIN:VCALENDAR
PRODID:-//github.com/rianjs/ical.net//NONSGML ical.net 4.0//EN
VERSION:2.0
BEGIN:VEVENT
DESCRIPTION:Vorbei am Wöhrder See geht es Richtung Fischbach in den Lorenz
 er Reichswald. In Brunn wenden wir\, durchqueren bei Erlenstegen das Pegn
 itztal Richtung ADFC-Infoladen in der Heroldstraße.\nhttps://touren-termi
 ne.adfc.de/radveranstaltung/191008-eroffnungstour-in-den-osten
DTEND:20260415T133000Z
DTSTAMP:20260423T201117Z
DTSTART:20260411T110000Z
LOCATION:Jakobsplatz\, 90402 Nürnberg
SEQUENCE:0
SUMMARY:Eröffnungstour: In den Osten
UID:47853c05-624e-47f5-95c5-407ae3a1ba70
URL:https://touren-termine.adfc.de/radveranstaltung/191008-eroffnungstour-
 in-den-osten
END:VEVENT
END:VCALENDAR
