BEGIN:VCALENDAR
PRODID:-//github.com/rianjs/ical.net//NONSGML ical.net 4.0//EN
VERSION:2.0
BEGIN:VEVENT
DESCRIPTION:Feierabendtouren in die nähere Umgebung\, Distanz 20 - 30 km\,
  oft mit Einkehr.\nhttps://touren-termine.adfc.de/radveranstaltung/118316
 -gilchinger-feierabendtour-herbst
DTEND:20240920T170000Z
DTSTAMP:20260425T145501Z
DTSTART:20240920T140000Z
LOCATION:Marktplatz\, 82205 Gilching
SEQUENCE:0
SUMMARY:Gilchinger Feierabendtour Herbst
UID:bb362dd1-199c-4641-9625-9143060982b6
URL:https://touren-termine.adfc.de/radveranstaltung/118316-gilchinger-feie
 rabendtour-herbst
END:VEVENT
END:VCALENDAR
