BEGIN:VCALENDAR
PRODID:-//github.com/rianjs/ical.net//NONSGML ical.net 4.0//EN
VERSION:2.0
BEGIN:VEVENT
DESCRIPTION:Gemütliche und einfache Radtour zum Frühlingsauftakt durch die
  Ruhrauen\nhttps://touren-termine.adfc.de/radveranstaltung/160906-gemutli
 che-anradeltour-durch-die-ruhrauen
DTEND:20250412T130000Z
DTSTAMP:20260424T193532Z
DTSTART:20250412T080000Z
LOCATION:Iserlohn-Barendorf\, 58636 Iserlohn
SEQUENCE:0
SUMMARY:Gemütliche Anradel-Tour durch die Ruhrauen
UID:b3cd779f-ce3b-401d-8c2d-9c4b8c4c4eec
URL:https://touren-termine.adfc.de/radveranstaltung/160906-gemutliche-anra
 deltour-durch-die-ruhrauen
END:VEVENT
END:VCALENDAR
