BEGIN:VCALENDAR
PRODID:-//github.com/rianjs/ical.net//NONSGML ical.net 4.0//EN
VERSION:2.0
BEGIN:VEVENT
DESCRIPTION:Dieses Angebot passt zu allen\, die nach einem Arbeitstag sich
  nochmal auslüften wollen\, die Lungen mit frischer Luft tanken und/oder 
 einfach ein bis zwei Stunden Bewegung benötigen.\nhttps://touren-termine.
 adfc.de/radveranstaltung/157346-alle-wege-fuhren-um-katzwang-feierabendto
 ur
DTEND:20250408T183000Z
DTSTAMP:20260425T171242Z
DTSTART:20250408T161500Z
LOCATION:Rosine-Speicher-Straße (Wendehammer) Katzwang\, 90455 Nürnberg
SEQUENCE:0
SUMMARY:Alle Wege führen um Katzwang - Feierabendtour
UID:42948689-c6fb-4bfa-b92a-74aeb1a1e5e0
URL:https://touren-termine.adfc.de/radveranstaltung/157346-alle-wege-fuhre
 n-um-katzwang-feierabendtour
END:VEVENT
END:VCALENDAR
