BEGIN:VCALENDAR
PRODID:-//github.com/rianjs/ical.net//NONSGML ical.net 4.0//EN
VERSION:2.0
BEGIN:VEVENT
DESCRIPTION:Der Bürgermeister und die ADFC-Ortsgruppe laden alle interessi
 erten Radler*innen zu einer informativen und unterhaltsamen Radtour durch
  Oranienburg ein.\nhttps://touren-termine.adfc.de/radveranstaltung/123301
 -oranienburg-radelt-mit-dem-burgermeister
DTEND:20240406T130000Z
DTSTAMP:20260425T201611Z
DTSTART:20240406T080000Z
LOCATION:Schlossplatz\, 16515 Oranienburg
SEQUENCE:0
SUMMARY:Oranienburg radelt mit dem Bürgermeister
UID:9ed2dffd-7e9f-4e3f-93f0-bff20f241384
URL:https://touren-termine.adfc.de/radveranstaltung/123301-oranienburg-rad
 elt-mit-dem-burgermeister
END:VEVENT
END:VCALENDAR
