BEGIN:VCALENDAR
PRODID:-//github.com/rianjs/ical.net//NONSGML ical.net 4.0//EN
VERSION:2.0
BEGIN:VEVENT
DESCRIPTION:Bäume am T-Damm retten! Sie kühlen die Stadt\, schützen vor Hi
 tze\, binden Feinstaub und schaffen lebenswerte Stadträume. Das ist auch 
 für Radfahrende wichtig\, zumal bei zunehmend heißen Temperaturen!\nhttps
 ://touren-termine.adfc.de/radveranstaltung/164000-happybaumhourdemo-25042
 5-um-18-uhr
DTEND:20250425T173000Z
DTSTAMP:20260424T020632Z
DTSTART:20250425T160000Z
LOCATION:Tempelhofer Damm\, 12101 Berlin
SEQUENCE:0
SUMMARY:Happy-Baum-Hour-Demo 25.04.25 um 18 Uhr
UID:310bbc15-4ca1-46cc-911f-ed90b3b194ec
URL:https://touren-termine.adfc.de/radveranstaltung/164000-happybaumhourde
 mo-250425-um-18-uhr
END:VEVENT
END:VCALENDAR
