BEGIN:VCALENDAR
PRODID:-//github.com/rianjs/ical.net//NONSGML ical.net 4.0//EN
VERSION:2.0
BEGIN:VEVENT
DESCRIPTION:Der Radlertreff ist das Angebot an unsere Solinger Mitglieder 
 und ihre Freunde mit uns und interessanten Ansprechpartnern ins Gespräch 
 zu kommen.\nhttps://touren-termine.adfc.de/radveranstaltung/93463-radlert
 reff-solingen-juni-fdp-zu-gast
DTEND:20230621T200000Z
DTSTAMP:20260421T172740Z
DTSTART:20230621T173000Z
LOCATION:Locher Straße 17\, 42719 Solingen
SEQUENCE:0
SUMMARY:Radlertreff Solingen - Juni: FDP zu Gast
UID:e541a9d3-46dc-4af9-9888-102a45de134b
URL:https://touren-termine.adfc.de/radveranstaltung/93463-radlertreff-soli
 ngen-juni-fdp-zu-gast
END:VEVENT
END:VCALENDAR
