BEGIN:VCALENDAR
PRODID:-//github.com/rianjs/ical.net//NONSGML ical.net 4.0//EN
VERSION:2.0
BEGIN:VEVENT
DESCRIPTION:In unserem FahrSicherheitsTraining lernst Du\, selbstbewusst d
 ie Herausforderungen des Radfahrens mit dem nötigen Know-how zu meistern.
  Wer sicher unterwegs ist\, steigt auch gerne aufs Rad.\nhttps://touren-t
 ermine.adfc.de/radveranstaltung/192438-fahrsicherheitstraining-grundkurs
DTEND:20260614T110000Z
DTSTAMP:20260424T190319Z
DTSTART:20260614T080000Z
LOCATION:Trakehner Allee 6\, Parkplatz Nähe S-Bhf. Olympiastadion\, 14055 
 Berlin
SEQUENCE:0
SUMMARY:FahrSicherheitsTraining - GRUNDKURS
UID:943ed3b9-a7de-44f3-a0a4-a4f8e591fce0
URL:https://touren-termine.adfc.de/radveranstaltung/192438-fahrsicherheits
 training-grundkurs
END:VEVENT
END:VCALENDAR
