BEGIN:VCALENDAR
PRODID:-//github.com/rianjs/ical.net//NONSGML ical.net 4.0//EN
VERSION:2.0
BEGIN:VEVENT
DESCRIPTION:Diese Rad Tour soll die Neubürgerinnen und Neubürger der Stadt
  Neumarkt ansprechen aber gerne dürfen auch alle anderen mitkommen.\nhttp
 s://touren-termine.adfc.de/radveranstaltung/134475-radtour-fur-neuburgeri
 nnen-und-neuburger
DTEND:20240802T170000Z
DTSTAMP:20260424T232130Z
DTSTART:20240802T150000Z
LOCATION:Schauturm im LGS-Gelände\, Dr.-Kurz-Str.\,\, 92318 Neumarkt in de
 r Oberpfalz
SEQUENCE:0
SUMMARY:Radtour für Neubürgerinnen und Neubürger
UID:a4967268-8d34-4b7a-9f5e-df8228222db7
URL:https://touren-termine.adfc.de/radveranstaltung/134475-radtour-fur-neu
 burgerinnen-und-neuburger
END:VEVENT
END:VCALENDAR
