BEGIN:VCALENDAR
PRODID:-//github.com/rianjs/ical.net//NONSGML ical.net 4.0//EN
VERSION:2.0
BEGIN:VEVENT
DESCRIPTION:Unsere Geschäftsstelle ist für alle Anliegen und offenen Frage
 n geöffnet.\nhttps://touren-termine.adfc.de/radveranstaltung/183790-offnu
 ngszeit-unserer-geschaftsstelle
DTEND:20260212T170000Z
DTSTAMP:20260421T115547Z
DTSTART:20260212T150000Z
LOCATION:Essen (Innenstadt)\, ADFC Essen Geschäftsstelle\, Rottstraße 5\, 
 45127 Essen
SEQUENCE:0
SUMMARY:Öffnungszeit unserer Geschäftsstelle
UID:5c4badce-cec3-437a-a322-b321800bc569
URL:https://touren-termine.adfc.de/radveranstaltung/183790-offnungszeit-un
 serer-geschaftsstelle
END:VEVENT
END:VCALENDAR
