BEGIN:VCALENDAR
PRODID:-//github.com/rianjs/ical.net//NONSGML ical.net 4.0//EN
VERSION:2.0
BEGIN:VEVENT
DESCRIPTION:In Kaufbeuren! Mit Komoot lassen sich Radtouren einfach und ko
 mfortabel planen. Workshop für Laptop + Android-Smartphone.\nAnmeldeschlu
 ss: Mi 19.02.2025. Nur mit eigenem Laptop u. Smartphone!\nhttps://touren-
 termine.adfc.de/radveranstaltung/145086-fahrradnavigation-mit-komoot-grun
 dkurs-in-kf
DTEND:20250227T200000Z
DTSTAMP:20260419T160042Z
DTSTART:20250227T170000Z
LOCATION:Buronstraße\, 87600 Kaufbeuren
SEQUENCE:0
SUMMARY:Fahrradnavigation mit Komoot - Grundkurs in KF
UID:d49ceb37-1d32-4b45-89fa-da2848ce5c47
URL:https://touren-termine.adfc.de/radveranstaltung/145086-fahrradnavigati
 on-mit-komoot-grundkurs-in-kf
END:VEVENT
END:VCALENDAR
