BEGIN:VCALENDAR
PRODID:-//github.com/rianjs/ical.net//NONSGML ical.net 4.0//EN
VERSION:2.0
BEGIN:VEVENT
DESCRIPTION:Über die Höhen fahren wir zum Haarder Berg. Leider sind die We
 ge etwas holprig. Der Monte Schlacko ist unser Wendepunkt. Auf dem Gerhar
 d-Hauptmann-Weg und der Glückaufstraße geht es wieder ins Tal.\nhttps://t
 ouren-termine.adfc.de/radveranstaltung/147525-pedelecfeierabendtour-um-de
 n-monte-schlacko
DTEND:20250626T183000Z
DTSTAMP:20260422T234718Z
DTSTART:20250626T160000Z
LOCATION:Marburgerstraße\, Roter Platz\, 57223 Kreuztal
SEQUENCE:0
SUMMARY:Pedelec-Feierabendtour um den Monte Schlacko
UID:6364cfaa-7dc2-4da5-802c-5a906b29c775
URL:https://touren-termine.adfc.de/radveranstaltung/147525-pedelecfeierabe
 ndtour-um-den-monte-schlacko
END:VEVENT
END:VCALENDAR
