BEGIN:VCALENDAR
PRODID:-//github.com/rianjs/ical.net//NONSGML ical.net 4.0//EN
VERSION:2.0
BEGIN:VEVENT
DESCRIPTION:Tagestour (ca. 60 km) zum Eisenbahnmuseum Aumühle mit Imbiss\,
  Kaffee\, Kuchen dort sowie Führung durchs Museumsgelände\, Kostenbeitrag
  pauschal 15\,-€. Start und Ziel ist der Bahnhof Ahrensburg\nhttps://tour
 en-termine.adfc.de/radveranstaltung/187231-zum-eisenbahnmuseum-aumuhle
DTEND:20260712T150000Z
DTSTAMP:20260424T045937Z
DTSTART:20260712T080000Z
LOCATION:Bahnhof Ahrensburg\, Taxistand\, 22926 Ahrensburg
SEQUENCE:0
SUMMARY:Zum Eisenbahnmuseum Aumühle
UID:21a72554-ca7a-473b-b31b-77f2cefac9d9
URL:https://touren-termine.adfc.de/radveranstaltung/187231-zum-eisenbahnmu
 seum-aumuhle
END:VEVENT
END:VCALENDAR
