BEGIN:VCALENDAR
PRODID:-//github.com/rianjs/ical.net//NONSGML ical.net 4.0//EN
VERSION:2.0
BEGIN:VEVENT
DESCRIPTION:Was können Radroutenbetreiber:innen und Destinationen tun\, um
  ein gutes Angebot für radreisende Kinder und ihre Familien zu schaffen? 
 Der ADFC und der Tourismus NRW präsentieren ihre Empfehlungen.\nhttps://t
 ouren-termine.adfc.de/radveranstaltung/104499-onlinefachveranstaltung-mit
 -kindern-auf-radtour
DTEND:20230914T093000Z
DTSTAMP:20260420T132840Z
DTSTART:20230914T080000Z
LOCATION:Mohrenstraße 69\, 10117 Berlin
SEQUENCE:0
SUMMARY:Online-Fachveranstaltung: Mit Kindern auf Radtour
UID:e2788a10-615c-4af5-8e1f-0f2c52385592
URL:https://touren-termine.adfc.de/radveranstaltung/104499-onlinefachveran
 staltung-mit-kindern-auf-radtour
END:VEVENT
END:VCALENDAR
