BEGIN:VCALENDAR
PRODID:-//github.com/rianjs/ical.net//NONSGML ical.net 4.0//EN
VERSION:2.0
BEGIN:VEVENT
DESCRIPTION:o.A. = ohne Anmeldung. - Anfahrt zum Startpunkt der VeloCityNi
 ght am Klagesmarkt. VoeloCityNight = 24 km\, Rückfahrt mit Üstra möglich\
 nhttps://touren-termine.adfc.de/radveranstaltung/160871-oa-anfahrt-zur-ve
 locitynight-
DTEND:20250425T210000Z
DTSTAMP:20260424T173027Z
DTSTART:20250425T163000Z
LOCATION:Radtour-Startplatz zwischen Rathaus und Post\, Marktplatz 1\, 308
 53 Langenhagen
SEQUENCE:0
SUMMARY:o.A. - Anfahrt zur VeloCityNight ⓇⓈ
UID:38bc3dd9-8603-426f-bc8d-223806be0cab
URL:https://touren-termine.adfc.de/radveranstaltung/160871-oa-anfahrt-zur-
 velocitynight-
END:VEVENT
END:VCALENDAR
