BEGIN:VCALENDAR
PRODID:-//github.com/rianjs/ical.net//NONSGML ical.net 4.0//EN
VERSION:2.0
BEGIN:VEVENT
DESCRIPTION:Rund ums Schleifmühlchen\, den Häusling und den Giersberg. 15 
 km 250 hm\, Start: Scheinerplatz\, Ziel: ADFC Stammtisch Gartenhaus!\nhtt
 ps://touren-termine.adfc.de/radveranstaltung/176762-feierabendtour-siegen
 -schleifmuhlchen
DTEND:20251202T183000Z
DTSTAMP:20260422T234554Z
DTSTART:20251202T170000Z
LOCATION:Jakob-Scheiner-Platz\, 57072 Siegen
SEQUENCE:0
SUMMARY:Feierabendtour Siegen: Schleifmühlchen
UID:34c6b194-549a-4fb4-b35d-e38517eeb51c
URL:https://touren-termine.adfc.de/radveranstaltung/176762-feierabendtour-
 siegen-schleifmuhlchen
END:VEVENT
END:VCALENDAR
