BEGIN:VCALENDAR
PRODID:-//github.com/rianjs/ical.net//NONSGML ical.net 4.0//EN
VERSION:2.0
BEGIN:VEVENT
DESCRIPTION:Das bewährte Fahrsicherheitstraining steigert Können und Wisse
 n der Teilnehmer durch praktische Übungen einzeln und in der Gruppe. \nDi
 e Teilnehmer sind begeistert von ihrem Lernerfolg.\nhttps://touren-termin
 e.adfc.de/radveranstaltung/184404-fahrsicherheitstraining-grundkurs-etour
 enrad-kf
DTEND:20260427T150000Z
DTSTAMP:20260419T191941Z
DTSTART:20260427T120000Z
LOCATION:Honoldstraße\, 87600 Kaufbeuren
SEQUENCE:0
SUMMARY:Fahrsicherheitstraining Grundkurs E-Tourenrad\, KF
UID:8400619d-89f5-4bdc-809c-12f4e69023f6
URL:https://touren-termine.adfc.de/radveranstaltung/184404-fahrsicherheits
 training-grundkurs-etourenrad-kf
END:VEVENT
END:VCALENDAR
