BEGIN:VCALENDAR
PRODID:-//github.com/rianjs/ical.net//NONSGML ical.net 4.0//EN
VERSION:2.0
BEGIN:VEVENT
DESCRIPTION:Rauf aufs Rad für eine Spritztour in die Umgebung von Gauting!
 \nWöchentlich wechselnd naturkundliche Touren und Cappuccino-Touren.\nhtt
 ps://touren-termine.adfc.de/radveranstaltung/188113-wochentliche-nachmitt
 agstour-in-gauting
DTEND:20260728T150000Z
DTSTAMP:20260425T150658Z
DTSTART:20260728T120000Z
LOCATION:Rathaus\, Bahnhofstraße 7\, 82131 Gauting
SEQUENCE:0
SUMMARY:Wöchentliche Nachmittagstour in Gauting
UID:c1dbaad8-1743-4098-9270-c3128d11d813
URL:https://touren-termine.adfc.de/radveranstaltung/188113-wochentliche-na
 chmittagstour-in-gauting
END:VEVENT
END:VCALENDAR
