BEGIN:VCALENDAR
PRODID:-//github.com/rianjs/ical.net//NONSGML ical.net 4.0//EN
VERSION:2.0
BEGIN:VEVENT
DESCRIPTION:Ausgebucht - Warteliste möglich! 5 Tg. Radreise mit unserem Re
 isepartner ROBERT'S REISEN!\n„Erzgebirge – Sächsisches Vogtland“. Details
  siehe Beschreibung. Kleingruppe max. 8 Pers.\nhttps://touren-termine.adf
 c.de/radveranstaltung/141553-5tg-erzgebirgevogtland
DTEND;VALUE=DATE:20250615
DTSTAMP:20260425T152935Z
DTSTART;VALUE=DATE:20250611
LOCATION:Bahnhof Kaufbeuren\, Parkplatz Südseite\, Zufahrt über Schelmenho
 fstraße\, 87600 Kaufbeuren
SEQUENCE:0
SUMMARY:5-Tg. Erzgebirge-Vogtland
UID:17877580-af6e-4d78-92eb-3f85aefc52d0
URL:https://touren-termine.adfc.de/radveranstaltung/141553-5tg-erzgebirgev
 ogtland
END:VEVENT
END:VCALENDAR
