BEGIN:VCALENDAR
PRODID:-//github.com/rianjs/ical.net//NONSGML ical.net 4.0//EN
VERSION:2.0
BEGIN:VEVENT
DESCRIPTION:T05_63_km_Uetze_Mühle-Amme\nEinkehr: Cafe Zur Alten Wassermühl
 e\nhttps://touren-termine.adfc.de/radveranstaltung/159272-tagestour-63km-
 uetze
DTEND:20250810T150000Z
DTSTAMP:20260423T105506Z
DTSTART:20250810T080000Z
LOCATION:Fuhrberger Straße 4\, 30938 Burgwedel
SEQUENCE:0
SUMMARY:Tagestour 63km Uetze
UID:b4bab234-9a89-419e-805b-b7879048a04b
URL:https://touren-termine.adfc.de/radveranstaltung/159272-tagestour-63km-
 uetze
END:VEVENT
END:VCALENDAR
