BEGIN:VCALENDAR
PRODID:-//github.com/rianjs/ical.net//NONSGML ical.net 4.0//EN
VERSION:2.0
BEGIN:VEVENT
DESCRIPTION:Wir radeln von den Gärten der Welt über Karow und am Tegeler F
 ließ entlang bis  zum Tegeler See\nhttps://touren-termine.adfc.de/radvera
 nstaltung/122214-berliner-fahrradwoche-der-barnimer-dorferweg
DTEND:20240725T130000Z
DTSTAMP:20260421T233422Z
DTSTART:20240725T080000Z
LOCATION:Nähe U-Bhf. Kienberg (Gärten der Welt)\, Gottfried-Funeck-Weg (Wu
 hlesteg)\, 12619 Berlin
SEQUENCE:0
SUMMARY:Berliner Fahrradwoche: Der Barnimer Dörferweg
UID:e02df280-62fd-4882-973f-fe6fd246a96c
URL:https://touren-termine.adfc.de/radveranstaltung/122214-berliner-fahrra
 dwoche-der-barnimer-dorferweg
END:VEVENT
END:VCALENDAR
