BEGIN:VCALENDAR
PRODID:-//github.com/rianjs/ical.net//NONSGML ical.net 4.0//EN
VERSION:2.0
BEGIN:VEVENT
DESCRIPTION:Zielgruppe sind Frauen\, die sich auf ihren Alltagswegen in St
 uttgart auf dem Rad unsicher oder gar häufig gefährdet fühlen.\nhttps://t
 ouren-termine.adfc.de/radveranstaltung/139960-keine-fahrt-alleine-fit-fur
 s-radeln-in-der-stadt
DTEND:20241013T150000Z
DTSTAMP:20260424T090011Z
DTSTART:20241013T120000Z
LOCATION:Konrad-Adenauer-Straße 2\, 70173 Stuttgart
SEQUENCE:0
SUMMARY:KEINE FÄHRT ALLEINE: Fit fürs Radeln in der Stadt
UID:2ae61f5b-b8fb-45ec-a262-3d1391012490
URL:https://touren-termine.adfc.de/radveranstaltung/139960-keine-fahrt-all
 eine-fit-furs-radeln-in-der-stadt
END:VEVENT
END:VCALENDAR
