BEGIN:VCALENDAR
PRODID:-//github.com/rianjs/ical.net//NONSGML ical.net 4.0//EN
VERSION:2.0
BEGIN:VEVENT
DESCRIPTION:Wir beschäftigen uns mit der Verkehrsplanung im Bezirk Mitte u
 nd setzten uns dabei für den Radverkehr ein.\nhttps://touren-termine.adfc
 .de/radveranstaltung/100091-bezirksgruppe-mitte
DTEND:20230703T190000Z
DTSTAMP:20260420T230901Z
DTSTART:20230703T173000Z
LOCATION:Koppel 34-36\, 20099 Hamburg
SEQUENCE:0
SUMMARY:Bezirksgruppe Mitte
UID:0310e1d5-d9d9-4e19-b68c-2c8d404a23ee
URL:https://touren-termine.adfc.de/radveranstaltung/100091-bezirksgruppe-m
 itte
END:VEVENT
END:VCALENDAR
