BEGIN:VCALENDAR
PRODID:-//github.com/rianjs/ical.net//NONSGML ical.net 4.0//EN
VERSION:2.0
BEGIN:VEVENT
DESCRIPTION:Nicola Haardt\, liest aus ihrem Buch  „Ost-Erfahrung: mit dem 
 Rad von Bochum zum Baikal"\nhttps://touren-termine.adfc.de/radveranstaltu
 ng/190244-osterfahrung
DTEND:20260409T193000Z
DTSTAMP:20260420T082855Z
DTSTART:20260409T173000Z
LOCATION:Stadtbibliothek\, Reschop Carré 1\, 45525 Hattingen
SEQUENCE:0
SUMMARY:Ost-Erfahrung
UID:a92c0109-0ba0-4d29-b665-f6946d5838e7
URL:https://touren-termine.adfc.de/radveranstaltung/190244-osterfahrung
END:VEVENT
END:VCALENDAR
