BEGIN:VCALENDAR
PRODID:-//github.com/rianjs/ical.net//NONSGML ical.net 4.0//EN
VERSION:2.0
BEGIN:VEVENT
DESCRIPTION:Die neu gegründete Frauengruppe im ADFC Stuttgart trifft sich 
 regelmäßig unter dem Motto "Keine fährt alleine" und lädt alle interessie
 rten Frauen zum Mitmachen ein. Heute am ADFC-Parklet!\nhttps://touren-ter
 mine.adfc.de/radveranstaltung/135114-adfc-frauengruppe-parklet-party
DTEND:20240704T190000Z
DTSTAMP:20260424T114932Z
DTSTART:20240704T160000Z
LOCATION:Reinsburgstraße 97\, 70197 Stuttgart
SEQUENCE:0
SUMMARY:ADFC Frauengruppe: Parklet Party!
UID:cc8deeb5-9c75-4cfe-a8b5-837d88015112
URL:https://touren-termine.adfc.de/radveranstaltung/135114-adfc-frauengrup
 pe-parklet-party
END:VEVENT
END:VCALENDAR
