BEGIN:VCALENDAR
PRODID:-//github.com/rianjs/ical.net//NONSGML ical.net 4.0//EN
VERSION:2.0
BEGIN:VEVENT
DESCRIPTION:30 - 35 km\nhttps://touren-termine.adfc.de/radveranstaltung/14
 2591-kurztour
DTEND:20250709T180000Z
DTSTAMP:20260423T105506Z
DTSTART:20250709T160000Z
LOCATION:Rathaus\, Fuhrberger Straße 3\, 30938 Burgwedel
SEQUENCE:0
SUMMARY:Kurztour
UID:5ef4ed31-bdb9-421a-b7f4-b0e06efa05cd
URL:https://touren-termine.adfc.de/radveranstaltung/142591-kurztour
END:VEVENT
END:VCALENDAR
