BEGIN:VCALENDAR
PRODID:-//github.com/rianjs/ical.net//NONSGML ical.net 4.0//EN
VERSION:2.0
BEGIN:VEVENT
DESCRIPTION:Nach Kaiserswerth und Krefeld-Linn\nhttps://touren-termine.adf
 c.de/radveranstaltung/106437-duisburger-radwanderung-2023
DTEND:20230903T150000Z
DTSTAMP:20260423T104911Z
DTSTART:20230903T070000Z
LOCATION:Königstraße 40\, 47051 Duisburg
SEQUENCE:0
SUMMARY:Duisburger Radwanderung 2023
UID:c66fe51c-dbf7-48a9-a4f9-d3450e9dda4f
URL:https://touren-termine.adfc.de/radveranstaltung/106437-duisburger-radw
 anderung-2023
END:VEVENT
END:VCALENDAR
