BEGIN:VCALENDAR
PRODID:-//github.com/rianjs/ical.net//NONSGML ical.net 4.0//EN
VERSION:2.0
BEGIN:VEVENT
DESCRIPTION:Feierabendtour\n"Rund um den Eisenstein"\nAnschließende Einkeh
 r optional.\nhttps://touren-termine.adfc.de/radveranstaltung/134849-feier
 abendtour-rund-um-den-eisenstein
DTEND:20240611T180000Z
DTSTAMP:20260423T030748Z
DTSTART:20240611T160000Z
LOCATION:Bad Berleburg Bahnhof\, 57319 Bad Berleburg
SEQUENCE:0
SUMMARY:Feierabendtour "Rund um den Eisenstein"
UID:eff6098e-d2e2-49ad-83be-39ed420da8c7
URL:https://touren-termine.adfc.de/radveranstaltung/134849-feierabendtour-
 rund-um-den-eisenstein
END:VEVENT
END:VCALENDAR
