BEGIN:VCALENDAR
PRODID:-//github.com/rianjs/ical.net//NONSGML ical.net 4.0//EN
VERSION:2.0
BEGIN:VEVENT
DESCRIPTION:Radlertreff im Glossner Bräustübl\nhttps://touren-termine.adfc
 .de/radveranstaltung/185598-radlertreff
DTEND:20260130T210000Z
DTSTAMP:20260424T231007Z
DTSTART:20260130T180000Z
LOCATION:Glossner Bräustübl\, Schwesterhausgasse 9\, 92318 Neumarkt in der
  Oberpfalz
SEQUENCE:0
SUMMARY:Radlertreff
UID:64992fd2-5054-476c-92e0-638cea15a87f
URL:https://touren-termine.adfc.de/radveranstaltung/185598-radlertreff
END:VEVENT
END:VCALENDAR
