BEGIN:VCALENDAR
PRODID:-//github.com/rianjs/ical.net//NONSGML ical.net 4.0//EN
VERSION:2.0
BEGIN:VEVENT
DESCRIPTION:Wir fahren die geplante Pendlerradroute von Bingen nach Mainz 
 und prüfen ihren Ausbaustatus\nhttps://touren-termine.adfc.de/radveransta
 ltung/123655-pendlerradroute-bingeningelheimmainz
DTEND:20240406T150000Z
DTSTAMP:20260421T163437Z
DTSTART:20240406T100000Z
LOCATION:Naheeck\, Rheinpromenade\, 55411 Bingen am Rhein
SEQUENCE:0
SUMMARY:Pendlerradroute Bingen-Ingelheim-Mainz
UID:988f88cd-0e37-4bb4-8e14-26601837f3eb
URL:https://touren-termine.adfc.de/radveranstaltung/123655-pendlerradroute
 -bingeningelheimmainz
END:VEVENT
END:VCALENDAR
