BEGIN:VCALENDAR
PRODID:-//github.com/rianjs/ical.net//NONSGML ical.net 4.0//EN
VERSION:2.0
BEGIN:VEVENT
DESCRIPTION:Unter dem Motto: „Ciao Stau – mehr Platz fürs Rad!“ demonstrie
 ren wir dafür\, dass gute und sichere Radwege nicht nur geplant\, sondern
  endlich auch gebaut werden.\nhttps://touren-termine.adfc.de/radveranstal
 tung/185597-ciao-stau-starts-wwwadfcsternfahrtorg
DTEND;VALUE=DATE:20260503
DTSTAMP:20260421T102907Z
DTSTART;VALUE=DATE:20260503
LOCATION:Hauptbahnhof Nordseite\, 41462 Neuss
SEQUENCE:0
SUMMARY:Ciao Stau! - Starts: www.adfc-sternfahrt.org
UID:2c0a45ce-75e1-4b1b-8d26-1d0e40bb652b
URL:https://touren-termine.adfc.de/radveranstaltung/185597-ciao-stau-start
 s-wwwadfcsternfahrtorg
END:VEVENT
END:VCALENDAR
