BEGIN:VCALENDAR
PRODID:-//github.com/rianjs/ical.net//NONSGML ical.net 4.0//EN
VERSION:2.0
BEGIN:VEVENT
DESCRIPTION:Feierabendtouren in die nähere Umgebung\, Distanz 20 - 30 km\,
  oft mit Einkehr.\nhttps://touren-termine.adfc.de/radveranstaltung/116335
 -gilchinger-feierabendtour
DTEND:20240719T180000Z
DTSTAMP:20260425T150101Z
DTSTART:20240719T150000Z
LOCATION:Marktplatz\, 82205 Gilching
SEQUENCE:0
SUMMARY:Gilchinger Feierabendtour
UID:e90d17ab-9c62-4cfd-8ba6-2a6feb2f2b70
URL:https://touren-termine.adfc.de/radveranstaltung/116335-gilchinger-feie
 rabendtour
END:VEVENT
END:VCALENDAR
