BEGIN:VCALENDAR
PRODID:-//github.com/rianjs/ical.net//NONSGML ical.net 4.0//EN
VERSION:2.0
BEGIN:VEVENT
DESCRIPTION:Wir laden alle Neumitglieder herzlich ein und würden uns gerne
  vorstellen und mit Ihnen ins Gespräch kommen.\nhttps://touren-termine.ad
 fc.de/radveranstaltung/134121-neumitgliedertreffen
DTEND:20240608T173000Z
DTSTAMP:20260421T103217Z
DTSTART:20240608T150000Z
LOCATION:Essen (Innenstadt)\, ADFC Essen Geschäftsstelle\, Rottstraße 5\, 
 45127 Essen
SEQUENCE:0
SUMMARY:Neumitgliedertreffen
UID:563c7f3f-7a76-4245-9451-1fb9a3b7165f
URL:https://touren-termine.adfc.de/radveranstaltung/134121-neumitgliedertr
 effen
END:VEVENT
END:VCALENDAR
