BEGIN:VCALENDAR
PRODID:-//github.com/rianjs/ical.net//NONSGML ical.net 4.0//EN
VERSION:2.0
BEGIN:VEVENT
DESCRIPTION:Erwerbe das Zertifikat ADFC-TourGuide. Die geführten Fahrradto
 uren erfreuen sich großer Beliebtheit. Entscheidenden Anteil daran haben 
 die ADFC TourGuides.\nhttps://touren-termine.adfc.de/radveranstaltung/178
 383-adfctourguide-ausbildung-in-kiel-2026
DTEND:20260412T150000Z
DTSTAMP:20260424T123221Z
DTSTART:20260331T170000Z
LOCATION:Haßstraße 22\, 24103 Kiel
SEQUENCE:0
SUMMARY:ADFC-TourGuide Ausbildung in Kiel 2026
UID:0e4cb605-3114-4bac-b00a-70c52cfb202a
URL:https://touren-termine.adfc.de/radveranstaltung/178383-adfctourguide-a
 usbildung-in-kiel-2026
END:VEVENT
END:VCALENDAR
