BEGIN:VCALENDAR
PRODID:-//github.com/rianjs/ical.net//NONSGML ical.net 4.0//EN
VERSION:2.0
BEGIN:VEVENT
DESCRIPTION:Von Hessental nach Waldenburg und dann in einem Bogen nach Öhr
 ingen\nhttps://touren-termine.adfc.de/radveranstaltung/160939-von-hessent
 al-nach-ohringen
DTEND:20250523T150000Z
DTSTAMP:20260424T144103Z
DTSTART:20250523T064500Z
LOCATION:Kegelenstraße 12\, 70372 Stuttgart
SEQUENCE:0
SUMMARY:Von Hessental nach Öhringen
UID:76ee9902-00f9-4e8b-9bbd-c3b784531ef1
URL:https://touren-termine.adfc.de/radveranstaltung/160939-von-hessental-n
 ach-ohringen
END:VEVENT
END:VCALENDAR
