BEGIN:VCALENDAR
PRODID:-//github.com/rianjs/ical.net//NONSGML ical.net 4.0//EN
VERSION:2.0
BEGIN:VEVENT
DESCRIPTION:Traditionelle Rundtour mit der Märkischen Oder Zeitung (MOZ) v
 on Oranienburg in den Süden Oberhavels\nhttps://touren-termine.adfc.de/ra
 dveranstaltung/105224-tour-de-moz
DTEND:20230819T140000Z
DTSTAMP:20260425T232043Z
DTSTART:20230819T080000Z
LOCATION:Bahnhof\, 16515 Oranienburg
SEQUENCE:0
SUMMARY:Tour de MOZ
UID:15479e30-7832-4641-bd00-78bef3051119
URL:https://touren-termine.adfc.de/radveranstaltung/105224-tour-de-moz
END:VEVENT
END:VCALENDAR
