BEGIN:VCALENDAR
PRODID:-//github.com/rianjs/ical.net//NONSGML ical.net 4.0//EN
VERSION:2.0
BEGIN:VEVENT
DESCRIPTION:Mit dem ADFC Radfahrquiz frischen wir Ihr Wissenslücken wieder
  auf.\nVom Angebotsstreifen über indirektes Linksabbiegen und benutzungsp
 flichtigen Radwegen bis Zebrastreifen machen wir Sie "sattelfest".\nhttps
 ://touren-termine.adfc.de/radveranstaltung/121788-sind-sie-sattelfest-im-
 strassenverkehr
DTEND:20240402T143000Z
DTSTAMP:20260424T151819Z
DTSTART:20240402T130000Z
LOCATION:Altstadthaus\, Schützenstraße 2\, 87435 Kempten (Allgäu)
SEQUENCE:0
SUMMARY:Sind Sie "sattelfest" im Straßenverkehr?
UID:576e04f2-7cdb-4125-8a8c-8e6f13009115
URL:https://touren-termine.adfc.de/radveranstaltung/121788-sind-sie-sattel
 fest-im-strassenverkehr
END:VEVENT
END:VCALENDAR
