BEGIN:VCALENDAR
PRODID:-//github.com/rianjs/ical.net//NONSGML ical.net 4.0//EN
VERSION:2.0
BEGIN:VEVENT
DESCRIPTION:Jeden Montag findet morgens eine Radtour statt.\nhttps://toure
 n-termine.adfc.de/radveranstaltung/169525-montag-morgen-tour
DTEND:20250818T100000Z
DTSTAMP:20260423T201404Z
DTSTART:20250818T080000Z
LOCATION:In der Ahe 29\, 27356 Rotenburg
SEQUENCE:0
SUMMARY:Montag Morgen Tour
UID:0c24ab3f-4f49-4389-baf3-4e832cfb78a3
URL:https://touren-termine.adfc.de/radveranstaltung/169525-montag-morgen-t
 our
END:VEVENT
END:VCALENDAR
