BEGIN:VCALENDAR
PRODID:-//github.com/rianjs/ical.net//NONSGML ical.net 4.0//EN
VERSION:2.0
BEGIN:VEVENT
DESCRIPTION:Von Vaihingen ins Siebenmühlental und weiter über Waldenbuch n
 ach Holzgerlingen und an vorbei an Böblingen nach Vaihingen zurück\,\nhtt
 ps://touren-termine.adfc.de/radveranstaltung/188403-von-vaihingen-in-den-
 schonbuch
DTEND:20260318T150000Z
DTSTAMP:20260424T144531Z
DTSTART:20260318T090000Z
LOCATION:Vollmoellerstraße\, 70563 Stuttgart
SEQUENCE:0
SUMMARY:Von Vaihingen in den Schönbuch
UID:137b1244-e7b8-419e-92c3-9ee78fb0fbfa
URL:https://touren-termine.adfc.de/radveranstaltung/188403-von-vaihingen-i
 n-den-schonbuch
END:VEVENT
END:VCALENDAR
