BEGIN:VCALENDAR
PRODID:-//github.com/rianjs/ical.net//NONSGML ical.net 4.0//EN
VERSION:2.0
BEGIN:VEVENT
DESCRIPTION:Niederlande\nhttps://touren-termine.adfc.de/radveranstaltung/1
 81570-parklandschaften-und-herrenhauser-im-achterhoek
DTEND:20260919T150000Z
DTSTAMP:20260421T152907Z
DTSTART:20260919T080000Z
LOCATION:Rondweg Zuid\, 7261 SR Ruurlo
SEQUENCE:0
SUMMARY:Parklandschaften und Herrenhäuser im Achterhoek
UID:8be0e362-9e43-434b-9dae-6e04f75f654c
URL:https://touren-termine.adfc.de/radveranstaltung/181570-parklandschafte
 n-und-herrenhauser-im-achterhoek
END:VEVENT
END:VCALENDAR
