BEGIN:VCALENDAR
PRODID:-//github.com/rianjs/ical.net//NONSGML ical.net 4.0//EN
VERSION:2.0
BEGIN:VEVENT
DESCRIPTION:Wir treffen uns zum lockeren Austausch in der Radmosphäre. Kom
 men dürfen alle\, egal ob Mitglied oder nicht.\nhttps://touren-termine.ad
 fc.de/radveranstaltung/139555-offener-radlertreff-des-adfc-essen
DTEND:20241016T180000Z
DTSTAMP:20260421T102016Z
DTSTART:20241016T160000Z
LOCATION:Essen (Altendorf)\, Niederfeldsee (Radmosphäre)\, 45143 Essen
SEQUENCE:0
SUMMARY:Offener Radlertreff des ADFC Essen
UID:df3bfcb3-5306-4f19-84c9-ee2b82d1f231
URL:https://touren-termine.adfc.de/radveranstaltung/139555-offener-radlert
 reff-des-adfc-essen
END:VEVENT
END:VCALENDAR
