BEGIN:VCALENDAR
PRODID:-//github.com/rianjs/ical.net//NONSGML ical.net 4.0//EN
VERSION:2.0
BEGIN:VEVENT
DESCRIPTION:Monatliches Treffen aller Radverkehrs Interessenten\nhttps://t
 ouren-termine.adfc.de/radveranstaltung/114557-offentlicher-radlertreff
DTEND:20240123T200000Z
DTSTAMP:20260423T183408Z
DTSTART:20240123T180000Z
LOCATION:Gartenstraße 10\, 30938 Burgwedel
SEQUENCE:0
SUMMARY:Öffentlicher Radlertreff
UID:bdbed5fd-fdf0-475e-99b7-b583a9134d8a
URL:https://touren-termine.adfc.de/radveranstaltung/114557-offentlicher-ra
 dlertreff
END:VEVENT
END:VCALENDAR
