BEGIN:VCALENDAR
PRODID:-//github.com/rianjs/ical.net//NONSGML ical.net 4.0//EN
VERSION:2.0
BEGIN:VEVENT
DESCRIPTION:Wir fahren durch den schönen Südosten Berlins. Vom Treptower P
 ark über Rahnsdorf nach Grünau\nhttps://touren-termine.adfc.de/radveranst
 altung/161866-berliner-fahrradwoche-an-spree-und-dahme
DTEND:20250729T150000Z
DTSTAMP:20260421T233556Z
DTSTART:20250729T080000Z
LOCATION:S-Bhf. Treptower Park\, Ausgang Parkseite\, 12435 Berlin
SEQUENCE:0
SUMMARY:Berliner Fahrradwoche: An Spree und Dahme
UID:48d3a1c3-c897-4cdd-8668-19c22ed3607b
URL:https://touren-termine.adfc.de/radveranstaltung/161866-berliner-fahrra
 dwoche-an-spree-und-dahme
END:VEVENT
END:VCALENDAR
