BEGIN:VCALENDAR
PRODID:-//github.com/rianjs/ical.net//NONSGML ical.net 4.0//EN
VERSION:2.0
BEGIN:VEVENT
DESCRIPTION:Radtour Pommersfelden\, Schmausenkeller\, Schwarzkreuzkeller\n
 https://touren-termine.adfc.de/radveranstaltung/144606-radtour-pommersfel
 den
DTEND:20250727T170000Z
DTSTAMP:20260421T101132Z
DTSTART:20250727T080000Z
LOCATION:Nürnberger Tor\, 91301 Forchheim
SEQUENCE:0
SUMMARY:Radtour Pommersfelden
UID:8860ec8e-1666-4e44-97df-2f70cafc3754
URL:https://touren-termine.adfc.de/radveranstaltung/144606-radtour-pommers
 felden
END:VEVENT
END:VCALENDAR
